BEGIN:VCALENDAR
VERSION:2.0
PRODID:icalendar-ruby
CALSCALE:GREGORIAN
METHOD:PUBLISH
BEGIN:VEVENT
DTSTAMP:20260420T000103Z
UID:7-404731@kearneybiblechurch.org
DTSTART:20260927T153500Z
DTEND:20260927T163500Z
CLASS:PUBLIC
CREATED:20260419T153451
DESCRIPTION:Sunday Worship
LAST-MODIFIED:20260419T153451
LOCATION:
SUMMARY:Sunday Worship
URL;VALUE=URI:https://kearneybiblechurch.org/events/sunday-worship/2026-09-
 27
ATTACH;FILENAME=Worship.png;FMTTYPE=image/png:https://dq5pwpg1q8ru0.cloudfr
 ont.net/2026/01/11/21/36/31/0bbfe5ac-16fd-4f20-ab5c-6748d3520567/Worship.p
 ng
END:VEVENT
END:VCALENDAR
